BEGIN:VCALENDAR
VERSION:2.0
PRODID:-//wp-events-plugin.com//6.4.7.3//EN
BEGIN:VEVENT
UID:127@bc-brandschutz.at
DTSTART;TZID=Europe/Vienna:20220309T090000
DTEND;TZID=Europe/Vienna:20220309T163000
DTSTAMP:20211104T092242Z
URL:https://bc-brandschutz.at/veranstaltungen/feuer-und-heissarbeiten-2/
SUMMARY:Feuer- Und Heissarbeiten
DESCRIPTION:
CATEGORIES:Feuer- und Heißarbeiten (FHA)
LOCATION:\, \, 
X-APPLE-STRUCTURED-LOCATION;VALUE=URI;X-ADDRESS=\, ;X-APPLE-RADIUS=100;X-TI
 TLE=:geo:0,0
END:VEVENT
BEGIN:VTIMEZONE
TZID:Europe/Vienna
X-LIC-LOCATION:Europe/Vienna
BEGIN:STANDARD
DTSTART:20211031T020000
TZOFFSETFROM:+0200
TZOFFSETTO:+0100
TZNAME:CET
END:STANDARD
END:VTIMEZONE
END:VCALENDAR