BEGIN:VCALENDAR
VERSION:2.0
PRODID:-//wp-events-plugin.com//6.4.7.3//EN
BEGIN:VEVENT
UID:328@bc-brandschutz.at
DTSTART;TZID=Europe/Vienna:20260513T083000
DTEND;TZID=Europe/Vienna:20260513T170000
DTSTAMP:20260310T074319Z
URL:https://bc-brandschutz.at/veranstaltungen/fachtagungbrandschutz-fuer-p
 hotovoltaik-batteriespeicher-und-windkraftanlagen/
SUMMARY:Fachtagung: Brandschutz für Photovoltaik-\, Batteriespeicher- und 
 Windkraftanlagen
DESCRIPTION:VERANSTALTUNGSFOLDER\n\n\nKOOPERATIONSVERANSTALTUNG\nBrandschut
 z &amp\; Consulting GmbH – Schrack Seconet AG\nBrandrisiken bei Photovol
 taik-\, Batteriespeicher- und Windkraftanlagen erkennen und reduzieren –
  typische Ursachen aus Planung\, Installation und Betrieb adressieren\, wi
 rksame Maßnahmen im Vorbeugenden Brandschutz ableiten und die Anforderung
 en der aktuellen OIB-Richtlinien sowie der entsprechenden TRVB praxisnah a
 nwenden. Im Rahmen der Veranstaltung werden den TeilnehmerInnen Chancen un
 d Optimierungsmöglichkeiten\, welche zu einer nachhaltigen Risiko- und da
 mit verbundenen Haftungsminimierung führen aufgezeigt sowie Neuerungen a
 m Brandschutzsektor vorgestellt.\n\nVORAUSSETZUNGEN\nkeine\nDAUER\n08:30 b
 is 17:00 Uhr\nSEMINARBEITRAG\nEUR 375\,- (exkl. MwSt.)\nABSCHLUSS\n\n 	Tei
 lnahmebestätigung\n 	Eintrag in österreichweit gültigen Brandschutzpas
 s\n 	Brandschutzpassverlängerung (gem. TRVB 117 0)\n\nVERPFLEGUNG\n\n 	Se
 minarbeitrag inklusive Kaffee\, Tee\, Getränke\, Snacks und Mittagessen\n
ATTACH;FMTTYPE=image/jpeg:https://bc-brandschutz.at/wp-content/uploads/202
 4/03/photovoltaik.jpg
CATEGORIES:Fachtagung: Brandschutz für Photovoltaik-, Batteriespeicher-
 und Windkraftanlagen
LOCATION:Schrack Seconet AG Schulungszentrum\, Eibesbrunnergasse 18\, Wien\
 , 1120\, Österreich
X-APPLE-STRUCTURED-LOCATION;VALUE=URI;X-ADDRESS=Eibesbrunnergasse 18\, Wien
 \, 1120\, Österreich;X-APPLE-RADIUS=100;X-TITLE=Schrack Seconet AG Schulu
 ngszentrum:geo:0,0
END:VEVENT
BEGIN:VTIMEZONE
TZID:Europe/Vienna
X-LIC-LOCATION:Europe/Vienna
BEGIN:DAYLIGHT
DTSTART:20260329T030000
TZOFFSETFROM:+0100
TZOFFSETTO:+0200
TZNAME:CEST
END:DAYLIGHT
END:VTIMEZONE
END:VCALENDAR